BEGIN:VCALENDAR
VERSION:2.0
PRODID:www.hss.de
X-PUBLISHED-TTL:P1W
BEGIN:VEVENT
UID:69e4ede31b771
DTSTART:20260315T170000Z
SEQUENCE:0
TRANSP:OPAQUE
DTEND:20260320T120000Z
LOCATION:Bad Staffelstein
SUMMARY:Polizeiseminar
CLASS:PUBLIC
DESCRIPTION:Veranstaltung: https://www.hss.de/veranstaltungen/polizeisemina
 r-3260303094/\nMeine Veranstaltungen: https://www.hss.de/meine-veranstaltu
 ngen/
DTSTAMP:20260419T145947Z
END:VEVENT
END:VCALENDAR