BEGIN:VCALENDAR
VERSION:2.0
PRODID:www.hss.de
X-PUBLISHED-TTL:P1W
BEGIN:VEVENT
UID:69e5c3aa8bc62
DTSTART:20250210T170000Z
SEQUENCE:0
TRANSP:OPAQUE
DTEND:20250210T190000Z
LOCATION:HSSdigital
SUMMARY:Populismus als Gefahr oder Normalität der Demokratie? Warum Wähle
 n immer besser ist als Nichtwählen!
CLASS:PUBLIC
DESCRIPTION:Veranstaltung: https://www.hss.de/veranstaltungen/populismus-al
 s-gefahr-oder-normalitaet-der-demokratie-warum-waehlen-immer-besser-ist-al
 s-nichtwaehlen-3250303317/\nMeine Veranstaltungen: https://www.hss.de/mein
 e-veranstaltungen/
DTSTAMP:20260420T061154Z
END:VEVENT
END:VCALENDAR