BEGIN:VCALENDAR
VERSION:2.0
PRODID:www.hss.de
X-PUBLISHED-TTL:P1W
BEGIN:VEVENT
UID:69e53b8e5109d
DTSTART:20231026T163000Z
SEQUENCE:0
TRANSP:OPAQUE
DTEND:20231026T190000Z
LOCATION:München
SUMMARY:Preisverleihung bei den Medientagen: Politische Influencer
CLASS:PUBLIC
DESCRIPTION:Veranstaltung: https://www.hss.de/veranstaltungen/preisverleihu
 ng-bei-den-medientagen-politische-influencer-3230407028/\nMeine Veranstalt
 ungen: https://www.hss.de/meine-veranstaltungen/
DTSTAMP:20260419T203110Z
END:VEVENT
END:VCALENDAR