BEGIN:VCALENDAR
VERSION:2.0
PRODID:www.hss.de
X-PUBLISHED-TTL:P1W
BEGIN:VEVENT
UID:69e51d323b70e
DTSTART:20241025T113000Z
SEQUENCE:0
TRANSP:OPAQUE
DTEND:20241025T123000Z
LOCATION:München
SUMMARY:Preisverleihung bei den Medientagen: Politische Influencer
CLASS:PUBLIC
DESCRIPTION:Veranstaltung: https://www.hss.de/veranstaltungen/preisverleihu
 ng-bei-den-medientagen-politische-influencer-3240407015/\nMeine Veranstalt
 ungen: https://www.hss.de/meine-veranstaltungen/
DTSTAMP:20260419T182138Z
END:VEVENT
END:VCALENDAR