BEGIN:VCALENDAR
VERSION:2.0
PRODID:www.hss.de
X-PUBLISHED-TTL:P1W
BEGIN:VEVENT
UID:69e9a3508994e
DTSTART:20240411T170000Z
SEQUENCE:0
TRANSP:OPAQUE
DTEND:20240411T180000Z
LOCATION:HSSdigital
SUMMARY:R – wie Regional- und Strukturpolitik
CLASS:PUBLIC
DESCRIPTION:Veranstaltung: https://www.hss.de/veranstaltungen/r-wie-regiona
 l-und-strukturpolitik-3240300218/\nMeine Veranstaltungen: https://www.hss.
 de/meine-veranstaltungen/
DTSTAMP:20260423T044256Z
END:VEVENT
END:VCALENDAR