BEGIN:VCALENDAR
VERSION:2.0
PRODID:www.hss.de
X-PUBLISHED-TTL:P1W
BEGIN:VEVENT
UID:69e9e331bfc3f
DTSTART:20221214T183000Z
SEQUENCE:0
TRANSP:OPAQUE
DTEND:20221214T200000Z
LOCATION:HSSdigital
SUMMARY:Reallabore als Katalysator für die Energiewende
CLASS:PUBLIC
DESCRIPTION:Veranstaltung: https://www.hss.de/veranstaltungen/reallabore-al
 s-katalysator-fuer-die-energiewende-3220308016/\nMeine Veranstaltungen: ht
 tps://www.hss.de/meine-veranstaltungen/
DTSTAMP:20260423T091529Z
END:VEVENT
END:VCALENDAR