BEGIN:VCALENDAR
VERSION:2.0
PRODID:www.hss.de
X-PUBLISHED-TTL:P1W
BEGIN:VEVENT
UID:69e4cad8e2933
DTSTART:20250307T163000Z
SEQUENCE:0
TRANSP:OPAQUE
DTEND:20250309T120000Z
LOCATION:Bad Staffelstein
SUMMARY:Rechtspopulismus\, rechte Esoterik und Verschwörungserzählungen
CLASS:PUBLIC
DESCRIPTION:Veranstaltung: https://www.hss.de/veranstaltungen/rechtspopulis
 mus-rechte-esoterik-und-verschwoerungserzaehlungen-3250303003/\nMeine Vera
 nstaltungen: https://www.hss.de/meine-veranstaltungen/
DTSTAMP:20260419T123017Z
END:VEVENT
END:VCALENDAR