BEGIN:VCALENDAR
VERSION:2.0
PRODID:www.hss.de
X-PUBLISHED-TTL:P1W
BEGIN:VEVENT
UID:69e566f21c63a
DTSTART:20230724T080000Z
SEQUENCE:0
TRANSP:OPAQUE
DTEND:20230724T150000Z
LOCATION:München
SUMMARY:Religion und Integration
CLASS:PUBLIC
DESCRIPTION:Veranstaltung: https://www.hss.de/veranstaltungen/religion-und-
 integration-3230080023/\nMeine Veranstaltungen: https://www.hss.de/meine-v
 eranstaltungen/
DTSTAMP:20260419T233618Z
END:VEVENT
END:VCALENDAR