BEGIN:VCALENDAR
VERSION:2.0
PRODID:www.hss.de
X-PUBLISHED-TTL:P1W
BEGIN:VEVENT
UID:69e79240a3c8f
DTSTART:20230608T110000Z
SEQUENCE:0
TRANSP:OPAQUE
DTEND:20230608T130000Z
LOCATION:Nürnberg
SUMMARY:RELIGIONSFREIHEIT – EIN UMKÄMPFTES MENSCHENRECHT 
CLASS:PUBLIC
DESCRIPTION:Veranstaltung: https://www.hss.de/veranstaltungen/religionsfrei
 heit-ein-umkaempftes-menschenrecht-3230080021/\nMeine Veranstaltungen: htt
 ps://www.hss.de/meine-veranstaltungen/
DTSTAMP:20260421T150536Z
END:VEVENT
END:VCALENDAR