BEGIN:VCALENDAR
VERSION:2.0
PRODID:www.hss.de
X-PUBLISHED-TTL:P1W
BEGIN:VEVENT
UID:69e9b6da432b9
DTSTART:20260324T173000Z
SEQUENCE:0
TRANSP:OPAQUE
DTEND:20260324T190000Z
LOCATION:HSSdigital
SUMMARY:Rente\, Ruhestand\, Reich? Was bekomme ich? Was kann ich tun?
CLASS:PUBLIC
DESCRIPTION:Veranstaltung: https://www.hss.de/veranstaltungen/rente-ruhesta
 nd-reich-was-bekomme-ich-was-kann-ich-tun-3260302818/\nMeine Veranstaltung
 en: https://www.hss.de/meine-veranstaltungen/
DTSTAMP:20260423T060618Z
END:VEVENT
END:VCALENDAR