BEGIN:VCALENDAR
VERSION:2.0
PRODID:www.hss.de
X-PUBLISHED-TTL:P1W
BEGIN:VEVENT
UID:69ea3ff52474b
DTSTART:20260418T073000Z
SEQUENCE:0
TRANSP:OPAQUE
DTEND:20260418T123000Z
LOCATION:Nürnberg
SUMMARY:Rente und Reformen
CLASS:PUBLIC
DESCRIPTION:Veranstaltung: https://www.hss.de/veranstaltungen/rente-und-ref
 ormen-3260302510/\nMeine Veranstaltungen: https://www.hss.de/meine-veranst
 altungen/
DTSTAMP:20260423T155117Z
END:VEVENT
END:VCALENDAR