BEGIN:VCALENDAR
VERSION:2.0
PRODID:www.hss.de
X-PUBLISHED-TTL:P1W
BEGIN:VEVENT
UID:69ebddb8cc9ad
DTSTART:20260620T073000Z
SEQUENCE:0
TRANSP:OPAQUE
DTEND:20260620T123000Z
SUMMARY:Rente und Reformen
CLASS:PUBLIC
DESCRIPTION:Veranstaltung: https://www.hss.de/veranstaltungen/rente-und-ref
 ormen-3260302512/\nMeine Veranstaltungen: https://www.hss.de/meine-veranst
 altungen/
DTSTAMP:20260424T211640Z
END:VEVENT
END:VCALENDAR