BEGIN:VCALENDAR
VERSION:2.0
PRODID:www.hss.de
X-PUBLISHED-TTL:P1W
BEGIN:VEVENT
UID:69e970a2de56f
DTSTART:20240320T170000Z
SEQUENCE:0
TRANSP:OPAQUE
DTEND:20240320T184500Z
LOCATION:HSSdigital
SUMMARY:Rolle von Gewerkschaften in Deutschland und Europa
CLASS:PUBLIC
DESCRIPTION:Veranstaltung: https://www.hss.de/veranstaltungen/rolle-von-gew
 erkschaften-in-deutschland-und-europa-3240302830/\nMeine Veranstaltungen: 
 https://www.hss.de/meine-veranstaltungen/
DTSTAMP:20260423T010643Z
END:VEVENT
END:VCALENDAR