BEGIN:VCALENDAR
VERSION:2.0
PRODID:www.hss.de
X-PUBLISHED-TTL:P1W
BEGIN:VEVENT
UID:69e4e790d0764
DTSTART:20220623T160000Z
SEQUENCE:0
TRANSP:OPAQUE
DTEND:20220623T180000Z
LOCATION:HSSdigital
SUMMARY:Romantik\, Bamberg und Politik - Zum 200. Todestag von E. T. A. Hof
 fmann
CLASS:PUBLIC
DESCRIPTION:Veranstaltung: https://www.hss.de/veranstaltungen/romantik-bamb
 erg-und-politik-zum-200-todestag-von-e-t-a-hoffmann-3220303337/\nMeine Ver
 anstaltungen: https://www.hss.de/meine-veranstaltungen/
DTSTAMP:20260419T143249Z
END:VEVENT
END:VCALENDAR