BEGIN:VCALENDAR
VERSION:2.0
PRODID:www.hss.de
X-PUBLISHED-TTL:P1W
BEGIN:VEVENT
UID:69e65c38cef54
DTSTART:20260212T163000Z
SEQUENCE:0
TRANSP:OPAQUE
DTEND:20260212T193000Z
LOCATION:München
SUMMARY:„Scam-States and Crime Factories“: Betrugszentren im industriel
 len Maßstab in Südostasien
CLASS:PUBLIC
DESCRIPTION:Veranstaltung: https://www.hss.de/veranstaltungen/scam-states-a
 nd-crime-factories-betrugszentren-im-industriellen-massstab-in-suedostasie
 n-5260525001/\nMeine Veranstaltungen: https://www.hss.de/meine-veranstaltu
 ngen/
DTSTAMP:20260420T170249Z
END:VEVENT
END:VCALENDAR