BEGIN:VCALENDAR
VERSION:2.0
PRODID:www.hss.de
X-PUBLISHED-TTL:P1W
BEGIN:VEVENT
UID:69eaeb0f5c58a
DTSTART:20260415T070000Z
SEQUENCE:0
TRANSP:OPAQUE
DTEND:20260416T143000Z
LOCATION:HSSdigital
SUMMARY:Schwerbehindertenrecht im Arbeitsleben Update 2026
CLASS:PUBLIC
DESCRIPTION:Veranstaltung: https://www.hss.de/veranstaltungen/schwerbehinde
 rtenrecht-im-arbeitsleben-update-2026-3260305501/\nMeine Veranstaltungen: 
 https://www.hss.de/meine-veranstaltungen/
DTSTAMP:20260424T040119Z
END:VEVENT
END:VCALENDAR