BEGIN:VCALENDAR
VERSION:2.0
PRODID:www.hss.de
X-PUBLISHED-TTL:P1W
BEGIN:VEVENT
UID:69e539181cb89
DTSTART:20240611T170000Z
SEQUENCE:0
TRANSP:OPAQUE
DTEND:20240611T180000Z
LOCATION:HSSdigital
SUMMARY:SDG 1: Keine Armut – Eine Halbzeitbilanz der globalen Armutsbekä
 mpfung
CLASS:PUBLIC
DESCRIPTION:Veranstaltung: https://www.hss.de/veranstaltungen/sdg-1-keine-a
 rmut-eine-halbzeitbilanz-der-globalen-armutsbekaempfung-3240300117/\nMeine
  Veranstaltungen: https://www.hss.de/meine-veranstaltungen/
DTSTAMP:20260419T202040Z
END:VEVENT
END:VCALENDAR