BEGIN:VCALENDAR
VERSION:2.0
PRODID:www.hss.de
X-PUBLISHED-TTL:P1W
BEGIN:VEVENT
UID:69e887f27a631
DTSTART:20261116T133000Z
SEQUENCE:0
TRANSP:OPAQUE
DTEND:20261118T120000Z
SUMMARY:Sehnsucht nach einfachen Antworten: Alternative Wissenschaft und 'F
 ake News'
CLASS:PUBLIC
DESCRIPTION:Veranstaltung: https://www.hss.de/veranstaltungen/sehnsucht-nac
 h-einfachen-antworten-alternative-wissenschaft-und-fake-news/\nMeine Veran
 staltungen: https://www.hss.de/meine-veranstaltungen/
DTSTAMP:20260422T083354Z
END:VEVENT
END:VCALENDAR