BEGIN:VCALENDAR
VERSION:2.0
PRODID:www.hss.de
X-PUBLISHED-TTL:P1W
BEGIN:VEVENT
UID:69e80cbf72ae2
DTSTART:20260724T153000Z
SEQUENCE:0
TRANSP:OPAQUE
DTEND:20260726T110000Z
LOCATION:Bad Staffelstein
SUMMARY:Selbst- und Teammotivation
CLASS:PUBLIC
DESCRIPTION:Veranstaltung: https://www.hss.de/veranstaltungen/selbst-und-te
 ammotivation-3260301109/\nMeine Veranstaltungen: https://www.hss.de/meine-
 veranstaltungen/
DTSTAMP:20260421T234815Z
END:VEVENT
END:VCALENDAR