BEGIN:VCALENDAR
VERSION:2.0
PRODID:www.hss.de
X-PUBLISHED-TTL:P1W
BEGIN:VEVENT
UID:69ece5499a674
DTSTART:20260926T073000Z
SEQUENCE:0
TRANSP:OPAQUE
DTEND:20260926T123000Z
SUMMARY:Selbstbestimmt älter werden – Wohnen\, Versorgung\, Teilhabe
CLASS:PUBLIC
DESCRIPTION:Veranstaltung: https://www.hss.de/veranstaltungen/selbstbestimm
 t-aelter-werden-wohnen-versorgung-teilhabe-3260302506/\nMeine Veranstaltun
 gen: https://www.hss.de/meine-veranstaltungen/
DTSTAMP:20260425T160113Z
END:VEVENT
END:VCALENDAR