BEGIN:VCALENDAR
VERSION:2.0
PRODID:www.hss.de
X-PUBLISHED-TTL:P1W
BEGIN:VEVENT
UID:69e5200d587c1
DTSTART:20250601T153000Z
SEQUENCE:0
TRANSP:OPAQUE
DTEND:20250606T110000Z
LOCATION:Bad Staffelstein
SUMMARY:Seminar für Betriebsräte: Betriebsvereinbarungen in der Praxis
CLASS:PUBLIC
DESCRIPTION:Veranstaltung: https://www.hss.de/veranstaltungen/seminar-fuer-
 betriebsraete-betriebsvereinbarungen-in-der-praxis-3250305704/\nMeine Vera
 nstaltungen: https://www.hss.de/meine-veranstaltungen/
DTSTAMP:20260419T183349Z
END:VEVENT
END:VCALENDAR