BEGIN:VCALENDAR
VERSION:2.0
PRODID:www.hss.de
X-PUBLISHED-TTL:P1W
BEGIN:VEVENT
UID:69e57c0494755
DTSTART:20260228T090000Z
SEQUENCE:0
TRANSP:OPAQUE
DTEND:20260228T150000Z
LOCATION:München
SUMMARY:Seminar für Frauen - Einstieg in die Politik
CLASS:PUBLIC
DESCRIPTION:Veranstaltung: https://www.hss.de/veranstaltungen/seminar-fuer-
 frauen-einstieg-in-die-politik-3260307907/\nMeine Veranstaltungen: https:/
 /www.hss.de/meine-veranstaltungen/
DTSTAMP:20260420T010612Z
END:VEVENT
END:VCALENDAR