BEGIN:VCALENDAR
VERSION:2.0
PRODID:www.hss.de
X-PUBLISHED-TTL:P1W
BEGIN:VEVENT
UID:69e6566f5b1e1
DTSTART:20260626T160000Z
SEQUENCE:0
TRANSP:OPAQUE
DTEND:20260628T123000Z
LOCATION:Bad Staffelstein
SUMMARY:Seminar für Frauen: Erfolgreiche Verhandlungsführung - souverän\
 , gelassen und cool
CLASS:PUBLIC
DESCRIPTION:Veranstaltung: https://www.hss.de/veranstaltungen/seminar-fuer-
 frauen-erfolgreiche-verhandlungsfuehrung-souveraen-gelassen-und-cool-32603
 07902/\nMeine Veranstaltungen: https://www.hss.de/meine-veranstaltungen/
DTSTAMP:20260420T163807Z
END:VEVENT
END:VCALENDAR