BEGIN:VCALENDAR
VERSION:2.0
PRODID:www.hss.de
X-PUBLISHED-TTL:P1W
BEGIN:VEVENT
UID:69e54d1a3d581
DTSTART:20260925T160000Z
SEQUENCE:0
TRANSP:OPAQUE
DTEND:20260927T123000Z
LOCATION:Bad Staffelstein
SUMMARY:Seminar für Frauen: Gesprächstechniken für Führungskräfte - ze
 itsparend und wirkungsvoll kommunizieren
CLASS:PUBLIC
DESCRIPTION:Veranstaltung: https://www.hss.de/veranstaltungen/seminar-fuer-
 frauen-gespraechstechniken-fuer-fuehrungskraefte-zeitsparend-und-wirkungsv
 oll-kommunizieren-3260307903/\nMeine Veranstaltungen: https://www.hss.de/m
 eine-veranstaltungen/
DTSTAMP:20260419T214602Z
END:VEVENT
END:VCALENDAR