BEGIN:VCALENDAR
VERSION:2.0
PRODID:www.hss.de
X-PUBLISHED-TTL:P1W
BEGIN:VEVENT
UID:69e7caa6ab65c
DTSTART:20261120T170000Z
SEQUENCE:0
TRANSP:OPAQUE
DTEND:20261122T133000Z
LOCATION:Bad Staffelstein
SUMMARY:Seminar für Frauen: Strategische Gelassenheit im Beruf - in heraus
 fordernden Situationen einen kühlen Kopf bewahren!
CLASS:PUBLIC
DESCRIPTION:Veranstaltung: https://www.hss.de/veranstaltungen/seminar-fuer-
 frauen-strategische-gelassenheit-im-beruf-in-herausfordernden-situationen-
 einen-kuehlen-kopf-bewahren-3260307904/\nMeine Veranstaltungen: https://ww
 w.hss.de/meine-veranstaltungen/
DTSTAMP:20260421T190614Z
END:VEVENT
END:VCALENDAR