BEGIN:VCALENDAR
VERSION:2.0
PRODID:www.hss.de
X-PUBLISHED-TTL:P1W
BEGIN:VEVENT
UID:69e52da2d0088
DTSTART:20250725T160000Z
SEQUENCE:0
TRANSP:OPAQUE
DTEND:20250727T123000Z
LOCATION:Bad Staffelstein
SUMMARY:Seminar für Frauen: Überzeugend auftreten - Starke Präsentation 
 und mitreißende Auftritte in Wahlkampf\, Politik und Beruf
CLASS:PUBLIC
DESCRIPTION:Veranstaltung: https://www.hss.de/veranstaltungen/seminar-fuer-
 frauen-ueberzeugend-auftreten-starke-praesentation-und-mitreissende-auftri
 tte-in-wahlkampf-politik-und-beruf-3250307904/\nMeine Veranstaltungen: htt
 ps://www.hss.de/meine-veranstaltungen/
DTSTAMP:20260419T193147Z
END:VEVENT
END:VCALENDAR