BEGIN:VCALENDAR
VERSION:2.0
PRODID:www.hss.de
X-PUBLISHED-TTL:P1W
BEGIN:VEVENT
UID:69e4dc527c858
DTSTART:20240310T163000Z
SEQUENCE:0
TRANSP:OPAQUE
DTEND:20240313T110000Z
LOCATION:Bad Staffelstein
SUMMARY:Seminar für gehörlose Senioren
CLASS:PUBLIC
DESCRIPTION:Veranstaltung: https://www.hss.de/veranstaltungen/seminar-fuer-
 gehoerlose-senioren-3240307809/\nMeine Veranstaltungen: https://www.hss.de
 /meine-veranstaltungen/
DTSTAMP:20260419T134451Z
END:VEVENT
END:VCALENDAR