BEGIN:VCALENDAR
VERSION:2.0
PRODID:www.hss.de
X-PUBLISHED-TTL:P1W
BEGIN:VEVENT
UID:69e90bbfcd9a9
DTSTART:20250620T153000Z
SEQUENCE:0
TRANSP:OPAQUE
DTEND:20250622T100000Z
LOCATION:Bad Staffelstein
SUMMARY:Seminar Umwelt und Energie - Wildkräuter unserer Region
CLASS:PUBLIC
DESCRIPTION:Veranstaltung: https://www.hss.de/veranstaltungen/seminar-umwel
 t-und-energie-wildkraeuter-unserer-region-3250307501/\nMeine Veranstaltung
 en: https://www.hss.de/meine-veranstaltungen/
DTSTAMP:20260422T175616Z
END:VEVENT
END:VCALENDAR