BEGIN:VCALENDAR
VERSION:2.0
PRODID:www.hss.de
X-PUBLISHED-TTL:P1W
BEGIN:VEVENT
UID:69ed688c88f2c
DTSTART:20261030T170000Z
SEQUENCE:0
TRANSP:OPAQUE
DTEND:20261101T110000Z
LOCATION:Bad Staffelstein
SUMMARY:Seminar zum Ehrenamt: Entspannt und Erfolgreich! - Mit mentaler St
 ärke im Ehrenamt und in der Politk glänzen
CLASS:PUBLIC
DESCRIPTION:Veranstaltung: https://www.hss.de/veranstaltungen/seminar-zum-e
 hrenamt-entspannt-und-erfolgreich-mit-mentaler-staerke-im-ehrenamt-und-in-
 der-politk-glaenzen-3260307803/\nMeine Veranstaltungen: https://www.hss.de
 /meine-veranstaltungen/
DTSTAMP:20260426T012116Z
END:VEVENT
END:VCALENDAR