BEGIN:VCALENDAR
VERSION:2.0
PRODID:www.hss.de
X-PUBLISHED-TTL:P1W
BEGIN:VEVENT
UID:69e6039c30a1f
DTSTART:20261012T090000Z
SEQUENCE:0
TRANSP:OPAQUE
DTEND:20261014T100000Z
LOCATION:Bad Staffelstein
SUMMARY:Seminar zum Ehrenamt: Mit Ehrenamtlichen professionell arbeiten
CLASS:PUBLIC
DESCRIPTION:Veranstaltung: https://www.hss.de/veranstaltungen/seminar-zum-e
 hrenamt-mit-ehrenamtlichen-professionell-arbeiten-3260307808/\nMeine Veran
 staltungen: https://www.hss.de/meine-veranstaltungen/
DTSTAMP:20260420T104444Z
END:VEVENT
END:VCALENDAR