BEGIN:VCALENDAR
VERSION:2.0
PRODID:www.hss.de
X-PUBLISHED-TTL:P1W
BEGIN:VEVENT
UID:69e60157f3b81
DTSTART:20250516T160000Z
SEQUENCE:0
TRANSP:OPAQUE
DTEND:20250518T100000Z
LOCATION:Bad Staffelstein
SUMMARY:Seminar zum Ehrenamt: Vereinsführerschein
CLASS:PUBLIC
DESCRIPTION:Veranstaltung: https://www.hss.de/veranstaltungen/seminar-zum-e
 hrenamt-vereinsfuehrerschein-3250307802/\nMeine Veranstaltungen: https://w
 ww.hss.de/meine-veranstaltungen/
DTSTAMP:20260420T103504Z
END:VEVENT
END:VCALENDAR