BEGIN:VCALENDAR
VERSION:2.0
PRODID:www.hss.de
X-PUBLISHED-TTL:P1W
BEGIN:VEVENT
UID:69e6e4a21c831
DTSTART:20230616T160000Z
SEQUENCE:0
TRANSP:OPAQUE
DTEND:20230616T180000Z
LOCATION:Hallbergmoos
SUMMARY:Seminar zum Verbraucherschutz mit Staatsminister Dr. Florian Herrma
 nn: Medientrends\, die uns als Verbraucher direkt betreffen - Social Media
 \, Fake News & ChatGPT
CLASS:PUBLIC
DESCRIPTION:Veranstaltung: https://www.hss.de/veranstaltungen/seminar-zum-v
 erbraucherschutz-mit-staatsminister-dr-florian-herrmann-medientrends-die-u
 ns-als-verbraucher-direkt-betreffen-social-media-fake-news-chatgpt-3230308
 054/\nMeine Veranstaltungen: https://www.hss.de/meine-veranstaltungen/
DTSTAMP:20260421T024450Z
END:VEVENT
END:VCALENDAR