BEGIN:VCALENDAR
VERSION:2.0
PRODID:www.hss.de
X-PUBLISHED-TTL:P1W
BEGIN:VEVENT
UID:69e7b1bcae78b
DTSTART:20260327T163000Z
SEQUENCE:0
TRANSP:OPAQUE
DTEND:20260329T100000Z
LOCATION:Bad Staffelstein
SUMMARY:Seminar zur Agrarpolitik: Aktuelle Landwirtschaftspolitik (EU\, Bun
 d\, Bayern)
CLASS:PUBLIC
DESCRIPTION:Veranstaltung: https://www.hss.de/veranstaltungen/seminar-zur-a
 grarpolitik-aktuelle-landwirtschaftspolitik-eu-bund-bayern-3260308004/\nMe
 ine Veranstaltungen: https://www.hss.de/meine-veranstaltungen/
DTSTAMP:20260421T171956Z
END:VEVENT
END:VCALENDAR