BEGIN:VCALENDAR
VERSION:2.0
PRODID:www.hss.de
X-PUBLISHED-TTL:P1W
BEGIN:VEVENT
UID:69ea01383f84a
DTSTART:20240308T163000Z
SEQUENCE:0
TRANSP:OPAQUE
DTEND:20240309T180000Z
LOCATION:Bad Staffelstein
SUMMARY:Seminar zur Agrarpolitik: Forstpolitisches Seminar - Umfassende Neu
 regelung des Bundeswaldgesetzes erforderlich?
CLASS:PUBLIC
DESCRIPTION:Veranstaltung: https://www.hss.de/veranstaltungen/seminar-zur-a
 grarpolitik-forstpolitisches-seminar-umfassende-neuregelung-des-bundeswald
 gesetzes-erforderlich-3240308071/\nMeine Veranstaltungen: https://www.hss.
 de/meine-veranstaltungen/
DTSTAMP:20260423T112336Z
END:VEVENT
END:VCALENDAR