BEGIN:VCALENDAR
VERSION:2.0
PRODID:www.hss.de
X-PUBLISHED-TTL:P1W
BEGIN:VEVENT
UID:69e5978d42171
DTSTART:20260507T120000Z
SEQUENCE:0
TRANSP:OPAQUE
DTEND:20260508T130000Z
LOCATION:Bad Staffelstein
SUMMARY:Seminar zur Kommunalpolitik: Die neue Verantwortung als Bürgermeis
 ter/in - Rechte\, Pflichten und mehr
CLASS:PUBLIC
DESCRIPTION:Veranstaltung: https://www.hss.de/veranstaltungen/seminar-zur-k
 ommunalpolitik-die-neue-verantwortung-als-buergermeisterin-rechte-pflichte
 n-und-mehr-3260307617/\nMeine Veranstaltungen: https://www.hss.de/meine-ve
 ranstaltungen/
DTSTAMP:20260420T030341Z
END:VEVENT
END:VCALENDAR