BEGIN:VCALENDAR
VERSION:2.0
PRODID:www.hss.de
X-PUBLISHED-TTL:P1W
BEGIN:VEVENT
UID:69e608430f768
DTSTART:20260424T160000Z
SEQUENCE:0
TRANSP:OPAQUE
DTEND:20260426T100000Z
LOCATION:Bad Staffelstein
SUMMARY:Seminar zur Kommunalpolitik: Einführung in die Kommunalpolitik und
  Fraktionsarbeit
CLASS:PUBLIC
DESCRIPTION:Veranstaltung: https://www.hss.de/veranstaltungen/seminar-zur-k
 ommunalpolitik-einfuehrung-in-die-kommunalpolitik-und-fraktionsarbeit-3260
 307616/\nMeine Veranstaltungen: https://www.hss.de/meine-veranstaltungen/
DTSTAMP:20260420T110435Z
END:VEVENT
END:VCALENDAR