BEGIN:VCALENDAR
VERSION:2.0
PRODID:www.hss.de
X-PUBLISHED-TTL:P1W
BEGIN:VEVENT
UID:69e76e16570c0
DTSTART:20251129T080000Z
SEQUENCE:0
TRANSP:OPAQUE
DTEND:20251129T153000Z
LOCATION:Erkheim
SUMMARY:Seminar zur Kommunalpolitik - Guter Auftritt und Menschen überzeug
 en
CLASS:PUBLIC
DESCRIPTION:Veranstaltung: https://www.hss.de/veranstaltungen/seminar-zur-k
 ommunalpolitik-guter-auftritt-und-menschen-ueberzeugen-3250307682/\nMeine 
 Veranstaltungen: https://www.hss.de/meine-veranstaltungen/
DTSTAMP:20260421T123118Z
END:VEVENT
END:VCALENDAR