BEGIN:VCALENDAR
VERSION:2.0
PRODID:www.hss.de
X-PUBLISHED-TTL:P1W
BEGIN:VEVENT
UID:69e621ed7cea0
DTSTART:20260620T073000Z
SEQUENCE:0
TRANSP:OPAQUE
DTEND:20260620T150000Z
LOCATION:Buchbach
SUMMARY:Seminar zur Kommunalpolitik: Kompaktwissen für neu gewählte Gemei
 nde-/Stadt- und Kreisräte
CLASS:PUBLIC
DESCRIPTION:Veranstaltung: https://www.hss.de/veranstaltungen/seminar-zur-k
 ommunalpolitik-kompaktwissen-fuer-neu-gewaehlte-gemeinde-stadt-und-kreisra
 ete-3260307632/\nMeine Veranstaltungen: https://www.hss.de/meine-veranstal
 tungen/
DTSTAMP:20260420T125405Z
END:VEVENT
END:VCALENDAR