BEGIN:VCALENDAR
VERSION:2.0
PRODID:www.hss.de
X-PUBLISHED-TTL:P1W
BEGIN:VEVENT
UID:69e717fbd6212
DTSTART:20260502T073000Z
SEQUENCE:0
TRANSP:OPAQUE
DTEND:20260502T150000Z
LOCATION:Pottenstein
SUMMARY:Seminar zur Kommunalpolitik: Kompaktwissen für neu gewählte Gemei
 nde-\, Stadt- und Kreisräte
CLASS:PUBLIC
DESCRIPTION:Veranstaltung: https://www.hss.de/veranstaltungen/seminar-zur-k
 ommunalpolitik-kompaktwissen-fuer-neu-gewaehlte-gemeinde-stadt-und-kreisra
 ete-3260307653/\nMeine Veranstaltungen: https://www.hss.de/meine-veranstal
 tungen/
DTSTAMP:20260421T062356Z
END:VEVENT
END:VCALENDAR