BEGIN:VCALENDAR
VERSION:2.0
PRODID:www.hss.de
X-PUBLISHED-TTL:P1W
BEGIN:VEVENT
UID:69e812967b505
DTSTART:20260327T170000Z
SEQUENCE:0
TRANSP:OPAQUE
DTEND:20260329T100000Z
LOCATION:Bad Staffelstein
SUMMARY:Seminar zur Kommunalpolitik - Wissen für neue Mandatsträger
CLASS:PUBLIC
DESCRIPTION:Veranstaltung: https://www.hss.de/veranstaltungen/seminar-zur-k
 ommunalpolitik-wissen-fuer-neue-mandatstraeger-3260307605/\nMeine Veransta
 ltungen: https://www.hss.de/meine-veranstaltungen/
DTSTAMP:20260422T001310Z
END:VEVENT
END:VCALENDAR