BEGIN:VCALENDAR
VERSION:2.0
PRODID:www.hss.de
X-PUBLISHED-TTL:P1W
BEGIN:VEVENT
UID:69ea75710d154
DTSTART:20260710T160000Z
SEQUENCE:0
TRANSP:OPAQUE
DTEND:20260712T100000Z
LOCATION:Bad Staffelstein
SUMMARY:Seminar zur Rhetorik: Mit positiver Rhetorik überzeugen - authenti
 sch kommunizieren und auftreten
CLASS:PUBLIC
DESCRIPTION:Veranstaltung: https://www.hss.de/veranstaltungen/seminar-zur-r
 hetorik-mit-positiver-rhetorik-ueberzeugen-authentisch-kommunizieren-und-a
 uftreten-3260307704/\nMeine Veranstaltungen: https://www.hss.de/meine-vera
 nstaltungen/
DTSTAMP:20260423T193929Z
END:VEVENT
END:VCALENDAR