BEGIN:VCALENDAR
VERSION:2.0
PRODID:www.hss.de
X-PUBLISHED-TTL:P1W
BEGIN:VEVENT
UID:69e9dbc298b99
DTSTART:20260918T160000Z
SEQUENCE:0
TRANSP:OPAQUE
DTEND:20260920T100000Z
LOCATION:Bad Staffelstein
SUMMARY:Seminar zur Rhetorik: Professionell Reden in Politik und Alltag
CLASS:PUBLIC
DESCRIPTION:Veranstaltung: https://www.hss.de/veranstaltungen/seminar-zur-r
 hetorik-professionell-reden-in-politik-und-alltag-3260307705/\nMeine Veran
 staltungen: https://www.hss.de/meine-veranstaltungen/
DTSTAMP:20260423T084346Z
END:VEVENT
END:VCALENDAR