BEGIN:VCALENDAR
VERSION:2.0
PRODID:www.hss.de
X-PUBLISHED-TTL:P1W
BEGIN:VEVENT
UID:69e821936ceff
DTSTART:20260621T143000Z
SEQUENCE:0
TRANSP:OPAQUE
DTEND:20260623T110000Z
LOCATION:Bad Staffelstein
SUMMARY:Sicherer Umgang mit Android-Geräten - Smartphone und Co. (Grundsem
 inar)
CLASS:PUBLIC
DESCRIPTION:Veranstaltung: https://www.hss.de/veranstaltungen/sicherer-umga
 ng-mit-android-geraeten-smartphone-und-co-grundseminar-3260301107/\nMeine 
 Veranstaltungen: https://www.hss.de/meine-veranstaltungen/
DTSTAMP:20260422T011707Z
END:VEVENT
END:VCALENDAR