BEGIN:VCALENDAR
VERSION:2.0
PRODID:www.hss.de
X-PUBLISHED-TTL:P1W
BEGIN:VEVENT
UID:69e94b986420c
DTSTART:20231008T140000Z
SEQUENCE:0
TRANSP:OPAQUE
DTEND:20231010T110000Z
LOCATION:Bad Staffelstein
SUMMARY:Sicherer Umgang mit Android-Geräten - Smartphone und Co. (Vertiefu
 ngsseminar) 
CLASS:PUBLIC
DESCRIPTION:Veranstaltung: https://www.hss.de/veranstaltungen/sicherer-umga
 ng-mit-android-geraeten-smartphone-und-co-vertiefungsseminar-3230301125/\n
 Meine Veranstaltungen: https://www.hss.de/meine-veranstaltungen/
DTSTAMP:20260422T222840Z
END:VEVENT
END:VCALENDAR