BEGIN:VCALENDAR
VERSION:2.0
PRODID:www.hss.de
X-PUBLISHED-TTL:P1W
BEGIN:VEVENT
UID:69eb5ac894dde
DTSTART:20260428T180000Z
SEQUENCE:0
TRANSP:OPAQUE
DTEND:20260428T200000Z
LOCATION:Nürnberg
SUMMARY:Sicherheitspolitik in der Arktis - Wer unterstützt Grönland und D
 änemark?
CLASS:PUBLIC
DESCRIPTION:Veranstaltung: https://www.hss.de/veranstaltungen/sicherheitspo
 litik-in-der-arktis-wer-unterstuetzt-groenland-und-daenemark-3260309119/\n
 Meine Veranstaltungen: https://www.hss.de/meine-veranstaltungen/
DTSTAMP:20260424T115800Z
END:VEVENT
END:VCALENDAR