BEGIN:VCALENDAR
VERSION:2.0
PRODID:www.hss.de
X-PUBLISHED-TTL:P1W
BEGIN:VEVENT
UID:69e5914052251
DTSTART:20260517T130000Z
SEQUENCE:0
TRANSP:OPAQUE
DTEND:20260519T100000Z
LOCATION:Bad Staffelstein
SUMMARY:Soziale Marktwirtschaft: Geld\, Innovation und Ordnung
CLASS:PUBLIC
DESCRIPTION:Veranstaltung: https://www.hss.de/veranstaltungen/soziale-markt
 wirtschaft-geld-innovation-und-ordnung-3260302009/\nMeine Veranstaltungen:
  https://www.hss.de/meine-veranstaltungen/
DTSTAMP:20260420T023648Z
END:VEVENT
END:VCALENDAR