BEGIN:VCALENDAR
VERSION:2.0
PRODID:www.hss.de
X-PUBLISHED-TTL:P1W
BEGIN:VEVENT
UID:69e902bbb7e37
DTSTART:20260303T180000Z
SEQUENCE:0
TRANSP:OPAQUE
DTEND:20260407T170000Z
LOCATION:HSSdigital
SUMMARY:Sprechtraining für Journalisten
CLASS:PUBLIC
DESCRIPTION:Veranstaltung: https://www.hss.de/veranstaltungen/sprechtrainin
 g-fuer-journalisten-3260407007/\nMeine Veranstaltungen: https://www.hss.de
 /meine-veranstaltungen/
DTSTAMP:20260422T171747Z
END:VEVENT
END:VCALENDAR