BEGIN:VCALENDAR
VERSION:2.0
PRODID:www.hss.de
X-PUBLISHED-TTL:P1W
BEGIN:VEVENT
UID:69e90cd33bb66
DTSTART:20251110T170000Z
SEQUENCE:0
TRANSP:OPAQUE
DTEND:20251110T190000Z
LOCATION:München
SUMMARY:Starke Frauen - Starke Worte: Im Gespräch mit Ilse Aigner MdL
CLASS:PUBLIC
DESCRIPTION:Veranstaltung: https://www.hss.de/veranstaltungen/starke-frauen
 -starke-worte-im-gespraech-mit-ilse-aigner-mdl-3250307926/\nMeine Veransta
 ltungen: https://www.hss.de/meine-veranstaltungen/
DTSTAMP:20260422T180051Z
END:VEVENT
END:VCALENDAR