BEGIN:VCALENDAR
VERSION:2.0
PRODID:www.hss.de
X-PUBLISHED-TTL:P1W
BEGIN:VEVENT
UID:69e4f7b063ca7
DTSTART:20261122T170000Z
SEQUENCE:0
TRANSP:OPAQUE
DTEND:20261127T120000Z
LOCATION:Bad Staffelstein
SUMMARY:Storno - Polizeiseminar
CLASS:PUBLIC
DESCRIPTION:Veranstaltung: https://www.hss.de/veranstaltungen/storno-polize
 iseminar-3260306095/\nMeine Veranstaltungen: https://www.hss.de/meine-vera
 nstaltungen/
DTSTAMP:20260419T154136Z
END:VEVENT
END:VCALENDAR