BEGIN:VCALENDAR
VERSION:2.0
PRODID:www.hss.de
X-PUBLISHED-TTL:P1W
BEGIN:VEVENT
UID:69e4ca25a1754
DTSTART:20200306T150000Z
SEQUENCE:0
TRANSP:OPAQUE
DTEND:20200306T190000Z
LOCATION:München
SUMMARY:Tag der Archive 2020 
CLASS:PUBLIC
DESCRIPTION:Veranstaltung: https://www.hss.de/veranstaltungen/tag-der-archi
 ve-2020-3200209002/\nMeine Veranstaltungen: https://www.hss.de/meine-veran
 staltungen/
DTSTAMP:20260419T122717Z
END:VEVENT
END:VCALENDAR